BEGIN:VCALENDAR
VERSION:2.0
PRODID:-//Library Market//iCal Export//EN
BEGIN:VEVENT
SUMMARY:Garden Gossips 🌱
UID:4462
DTSTAMP:20260423T211600Z
DTSTART:20260508T203000Z
DTEND:20260508T213000Z
LOCATION:Paris-Bourbon County Library, 701 High St., Paris, KY 40361, Unit
 ed States
ROOM: Conference Room - 2nd Floor
DESCRIPTION: Now is the perfect time to plan your Spring &amp; Summer Gar
 den! Join us for the next gathering of the Garden Gossips Club. Share your
  tips &amp; tricks, successes &amp; failures, and general garden enthusias
 m!Bring your ideas &amp; your Green Thumb! 
URL:https://parisbourbon.librarycalendar.com/event/garden-gossips-4462
END:VEVENT
END:VCALENDAR
