BEGIN:VCALENDAR
VERSION:2.0
PRODID:-//Library Market//iCal Export//EN
BEGIN:VEVENT
SUMMARY:Make-It Monday
UID:4328
DTSTAMP:20260425T132100Z
DTSTART:20260511T220000Z
DTEND:20260512T000000Z
LOCATION:Paris-Bourbon County Library, 701 High St., Paris, KY 40361, Unit
 ed States
ROOM: Community Room A &amp; B
DESCRIPTION:What’s a great craft for the Library to host? Decorative Boo
 k Bird Houses of course! What a wonderful way to upcycle those books layin
 g around your home. We hope to see you there.
URL:https://parisbourbon.librarycalendar.com/event/make-it-monday-4328
END:VEVENT
END:VCALENDAR
