BEGIN:VCALENDAR
VERSION:2.0
PRODID:-//Library Market//iCal Export//EN
BEGIN:VEVENT
SUMMARY:Paris In Community
UID:4140
DTSTAMP:20260425T132100Z
DTSTART:20260530T150000Z
DTEND:20260530T170000Z
LOCATION:Paris-Bourbon County Library, 701 High St., Paris, KY 40361, Unit
 ed States
ROOM: Community Room A &amp; B
DESCRIPTION:
URL:https://parisbourbon.librarycalendar.com/event/bourbon-county-communit
 y-4140
END:VEVENT
END:VCALENDAR
